BEGIN:VCALENDAR
VERSION:2.0
PRODID:icalendar-ruby
CALSCALE:GREGORIAN
X-WR-TIMEZONE:Europe/Helsinki
BEGIN:VTIMEZONE
TZID:Europe/Helsinki
BEGIN:DAYLIGHT
DTSTART:20260329T040000
TZOFFSETFROM:+0200
TZOFFSETTO:+0300
RRULE:FREQ=YEARLY;BYDAY=-1SU;BYMONTH=3
TZNAME:EEST
END:DAYLIGHT
BEGIN:STANDARD
DTSTART:20261025T030000
TZOFFSETFROM:+0300
TZOFFSETTO:+0200
RRULE:FREQ=YEARLY;BYDAY=-1SU;BYMONTH=10
TZNAME:EET
END:STANDARD
END:VTIMEZONE
BEGIN:VEVENT
DTSTAMP:20260419T152502
UID:siuntionsisu.myclub.fi-6982586
DTSTART;TZID=Europe/Helsinki:20240602T150000
DTEND;TZID=Europe/Helsinki:20240602T180000
DESCRIPTION:Oletko kiinnostunut pelinohjaaja koulutuksesta?\nPelinohjaajan 
 tarkoitus on "tuomaroida" ja ohjata nuorempien 5v5 sekä 8v8 Sisu futareid
 en pelejä hyvässä hengessä.\nKoulutus on maksuton.\nJärjestämme Sisu
 n oman pelinohjaajakoulutuksen sunnuntaina 2.6.2024 klo 15-18.00\nPallolii
 tolta tulee kouluttaja paikalle ja tämä toteutetaan Capellassa Siuntion 
 keskustassa.\nNyt kaikki innokkaat mukaan opiskelemaan futiksen saloja 
 🤓✏️\nKoulutus on tarkoitettu kaikille v. 2011-syntyneille ja sitä 
 vanhemmille.\nIlmoittautumiset\n(Minna 0407313000)\nniin tiedän montako m
 eitä on saapumassa paikalle 😊\nPs. Ne ketkä on jo ilmoittautuneet\, e
 i tarvitse uudelleen ilmoittautua\n\nhttps://siuntionsisu.myclub.fi/flow/e
 vents/6982586
LOCATION:Capella\, Flemingintie 2\, 02580 Siuntio
SEQUENCE:0
SUMMARY:Siuntion Sisu ry.: Pelinohjaajakoulutus
URL;VALUE=URI:https://siuntionsisu.myclub.fi/flow/events/6982586
END:VEVENT
END:VCALENDAR
